BEGIN:VCALENDAR
VERSION:2.0
PRODID:-//hacksw/handcal//NONSGML v1.0//EN
BEGIN:VEVENT
DTSTART:20260519T090000
DTEND:20260520T190000
LOCATION:Les Recollets \n154 Rue du Faubourg Saint-Martin \n75010 PARIS
ORGANIZER;CN=Perine Sauthier:MAILTO:psauthier@ad-education.com
SUMMARY:Festival Échelle Un
DESCRIPTION:Pour sa 3e édition, le Festival Échelle Un s’installe aux Récollets, Paris 10e, avec un commissariat confié à l’agence Belval & Parquet Architectes.Rendez-vous les mardi 19 et mercredi 20 mai 2026,...
URL:https://connect-conde.fr/fr/event/festival-echelle-un/2026/05/19/266
BEGIN:VALARM
TRIGGER:-P0DT1H0M0S
ACTION:DISPLAY
END:VALARM
END:VEVENT
END:VCALENDAR